BEGIN:VCALENDAR
VERSION:2.0
PRODID:-//Agapi Formation - ECPv6.12.0.1//NONSGML v1.0//EN
CALSCALE:GREGORIAN
METHOD:PUBLISH
X-ORIGINAL-URL:https://agapi-formation.fr
X-WR-CALDESC:Évènements pour Agapi Formation
REFRESH-INTERVAL;VALUE=DURATION:PT1H
X-Robots-Tag:noindex
X-PUBLISHED-TTL:PT1H
BEGIN:VTIMEZONE
TZID:Europe/Paris
BEGIN:DAYLIGHT
TZOFFSETFROM:+0100
TZOFFSETTO:+0200
TZNAME:CEST
DTSTART:20210328T010000
END:DAYLIGHT
BEGIN:STANDARD
TZOFFSETFROM:+0200
TZOFFSETTO:+0100
TZNAME:CET
DTSTART:20211031T010000
END:STANDARD
END:VTIMEZONE
BEGIN:VEVENT
DTSTART;TZID=Europe/Paris:20210930T090000
DTEND;TZID=Europe/Paris:20210930T130000
DTSTAMP:20260424T200751
CREATED:20250116T150543Z
LAST-MODIFIED:20250116T150543Z
UID:4312-1632992400-1633006800@agapi-formation.fr
SUMMARY:Enfance en danger.
DESCRIPTION:
URL:https://agapi-formation.fr/eformation/enfance-en-danger-session-1-2/
LOCATION:AGAPI\, 15 rue Martel\, Paris\, 75010\, France
END:VEVENT
BEGIN:VEVENT
DTSTART;TZID=Europe/Paris:20210930T140000
DTEND;TZID=Europe/Paris:20210930T180000
DTSTAMP:20260424T200751
CREATED:20250116T150653Z
LAST-MODIFIED:20250116T150653Z
UID:4390-1633010400-1633024800@agapi-formation.fr
SUMMARY:L'impact des violences conjugales sur le jeune enfant.
DESCRIPTION:
URL:https://agapi-formation.fr/eformation/limpact-des-violences-conjugales-sur-le-jeune-enfant-session-1/
LOCATION:AGAPI\, 15 rue Martel\, Paris\, 75010\, France
END:VEVENT
END:VCALENDAR