BEGIN:VCALENDAR
VERSION:2.0
PRODID:-//Agapi Formation - ECPv6.12.0.1//NONSGML v1.0//EN
CALSCALE:GREGORIAN
METHOD:PUBLISH
X-ORIGINAL-URL:https://agapi-formation.fr
X-WR-CALDESC:Évènements pour Agapi Formation
REFRESH-INTERVAL;VALUE=DURATION:PT1H
X-Robots-Tag:noindex
X-PUBLISHED-TTL:PT1H
BEGIN:VTIMEZONE
TZID:Europe/Paris
BEGIN:DAYLIGHT
TZOFFSETFROM:+0100
TZOFFSETTO:+0200
TZNAME:CEST
DTSTART:20240331T010000
END:DAYLIGHT
BEGIN:STANDARD
TZOFFSETFROM:+0200
TZOFFSETTO:+0100
TZNAME:CET
DTSTART:20241027T010000
END:STANDARD
END:VTIMEZONE
BEGIN:VEVENT
DTSTART;TZID=Europe/Paris:20240305T090000
DTEND;TZID=Europe/Paris:20240305T170000
DTSTAMP:20260423T012001
CREATED:20250116T150618Z
LAST-MODIFIED:20250116T150618Z
UID:4352-1709629200-1709658000@agapi-formation.fr
SUMMARY:« L’art d’accueillir »… des enfants\, des familles\, des collègues\, des stagiaires
DESCRIPTION:
URL:https://agapi-formation.fr/eformation/lart-daccueillir-des-enfants-des-familles-des-collegues-des-stagiaires-session-1/
END:VEVENT
END:VCALENDAR