BEGIN:VCALENDAR
VERSION:2.0
PRODID:-//Agapi Formation - ECPv6.12.0.1//NONSGML v1.0//EN
CALSCALE:GREGORIAN
METHOD:PUBLISH
X-WR-CALNAME:Agapi Formation
X-ORIGINAL-URL:https://agapi-formation.fr
X-WR-CALDESC:Évènements pour Agapi Formation
REFRESH-INTERVAL;VALUE=DURATION:PT1H
X-Robots-Tag:noindex
X-PUBLISHED-TTL:PT1H
BEGIN:VTIMEZONE
TZID:Europe/Paris
BEGIN:DAYLIGHT
TZOFFSETFROM:+0100
TZOFFSETTO:+0200
TZNAME:CEST
DTSTART:20240331T010000
END:DAYLIGHT
BEGIN:STANDARD
TZOFFSETFROM:+0200
TZOFFSETTO:+0100
TZNAME:CET
DTSTART:20241027T010000
END:STANDARD
END:VTIMEZONE
BEGIN:VEVENT
DTSTART;TZID=Europe/Paris:20241114T090000
DTEND;TZID=Europe/Paris:20241114T170000
DTSTAMP:20260422T130423
CREATED:20240910T153025Z
LAST-MODIFIED:20240910T153025Z
UID:4202-1731574800-1731603600@agapi-formation.fr
SUMMARY:Communiquer et transmettre aux familles et aux pros
DESCRIPTION:
URL:https://agapi-formation.fr/eformation/communiquer-et-transmettre-aux-familles-et-aux-pros/
LOCATION:Visio
END:VEVENT
BEGIN:VEVENT
DTSTART;TZID=Europe/Paris:20241114T090000
DTEND;TZID=Europe/Paris:20241114T170000
DTSTAMP:20260422T130423
CREATED:20250116T150530Z
LAST-MODIFIED:20250116T150530Z
UID:4302-1731574800-1731603600@agapi-formation.fr
SUMMARY:Communiquer et transmettre aux familles et aux professionnels.
DESCRIPTION:
URL:https://agapi-formation.fr/eformation/communiquer-et-transmettre-aux-familles-et-aux-professionnels-session-1/
END:VEVENT
END:VCALENDAR