BEGIN:VCALENDAR
VERSION:2.0
PRODID:-//Agapi Formation - ECPv6.12.0.1//NONSGML v1.0//EN
CALSCALE:GREGORIAN
METHOD:PUBLISH
X-WR-CALNAME:Agapi Formation
X-ORIGINAL-URL:https://agapi-formation.fr
X-WR-CALDESC:Évènements pour Agapi Formation
REFRESH-INTERVAL;VALUE=DURATION:PT1H
X-Robots-Tag:noindex
X-PUBLISHED-TTL:PT1H
BEGIN:VTIMEZONE
TZID:Europe/Paris
BEGIN:DAYLIGHT
TZOFFSETFROM:+0100
TZOFFSETTO:+0200
TZNAME:CEST
DTSTART:20240331T010000
END:DAYLIGHT
BEGIN:STANDARD
TZOFFSETFROM:+0200
TZOFFSETTO:+0100
TZNAME:CET
DTSTART:20241027T010000
END:STANDARD
END:VTIMEZONE
BEGIN:VEVENT
DTSTART;TZID=Europe/Paris:20241210T090000
DTEND;TZID=Europe/Paris:20241210T170000
DTSTAMP:20260422T111146
CREATED:20240910T150915Z
LAST-MODIFIED:20240910T150915Z
UID:4192-1733821200-1733850000@agapi-formation.fr
SUMMARY:Connaitre et accompagner la motricité fine du tout-petit
DESCRIPTION:
URL:https://agapi-formation.fr/eformation/connaitre-et-accompagner-la-motricite-fine-du-tout-petit/
LOCATION:AGAPI\, 15 rue Martel\, Paris\, 75010\, France
END:VEVENT
BEGIN:VEVENT
DTSTART;TZID=Europe/Paris:20241210T090000
DTEND;TZID=Europe/Paris:20241210T170000
DTSTAMP:20260422T111146
CREATED:20250116T150534Z
LAST-MODIFIED:20250116T150534Z
UID:4305-1733821200-1733850000@agapi-formation.fr
SUMMARY:Connaitre et accompagner la motricité du tout-petit.
DESCRIPTION:
URL:https://agapi-formation.fr/eformation/connaitre-et-accompagner-la-motricite-du-tout-petit-session-1/
END:VEVENT
END:VCALENDAR