BEGIN:VCALENDAR
VERSION:2.0
PRODID:-//Agapi Formation - ECPv6.12.0.1//NONSGML v1.0//EN
CALSCALE:GREGORIAN
METHOD:PUBLISH
X-WR-CALNAME:Agapi Formation
X-ORIGINAL-URL:https://agapi-formation.fr
X-WR-CALDESC:Évènements pour Agapi Formation
REFRESH-INTERVAL;VALUE=DURATION:PT1H
X-Robots-Tag:noindex
X-PUBLISHED-TTL:PT1H
BEGIN:VTIMEZONE
TZID:Europe/Paris
BEGIN:DAYLIGHT
TZOFFSETFROM:+0100
TZOFFSETTO:+0200
TZNAME:CEST
DTSTART:20250330T010000
END:DAYLIGHT
BEGIN:STANDARD
TZOFFSETFROM:+0200
TZOFFSETTO:+0100
TZNAME:CET
DTSTART:20251026T010000
END:STANDARD
END:VTIMEZONE
BEGIN:VEVENT
DTSTART;TZID=Europe/Paris:20250206T090000
DTEND;TZID=Europe/Paris:20250206T170000
DTSTAMP:20260422T075739
CREATED:20240910T152528Z
LAST-MODIFIED:20240910T152556Z
UID:4198-1738832400-1738861200@agapi-formation.fr
SUMMARY:« Moi »\, « Toi »\, « Nous » Respect de l’individualité en collectivité
DESCRIPTION:
URL:https://agapi-formation.fr/eformation/moi-toi-nous-respect-de-lindividualite-en-collectivite/
LOCATION:AGAPI\, 15 rue Martel\, Paris\, 75010\, France
END:VEVENT
BEGIN:VEVENT
DTSTART;TZID=Europe/Paris:20250206T090000
DTEND;TZID=Europe/Paris:20250206T170000
DTSTAMP:20260422T075739
CREATED:20250116T150659Z
LAST-MODIFIED:20250116T150659Z
UID:4397-1738832400-1738861200@agapi-formation.fr
SUMMARY:« Moi »\, « Toi »\,  « Nous » Respect de l’individualité en collectivité
DESCRIPTION:
URL:https://agapi-formation.fr/eformation/moi-toi-nous-respect-de-lindividualite-en-collectivite-session-1-2/
END:VEVENT
END:VCALENDAR