BEGIN:VCALENDAR
VERSION:2.0
PRODID:-//Agapi Formation - ECPv6.12.0.1//NONSGML v1.0//EN
CALSCALE:GREGORIAN
METHOD:PUBLISH
X-WR-CALNAME:Agapi Formation
X-ORIGINAL-URL:https://agapi-formation.fr
X-WR-CALDESC:Évènements pour Agapi Formation
REFRESH-INTERVAL;VALUE=DURATION:PT1H
X-Robots-Tag:noindex
X-PUBLISHED-TTL:PT1H
BEGIN:VTIMEZONE
TZID:Europe/Paris
BEGIN:DAYLIGHT
TZOFFSETFROM:+0100
TZOFFSETTO:+0200
TZNAME:CEST
DTSTART:20250330T010000
END:DAYLIGHT
BEGIN:STANDARD
TZOFFSETFROM:+0200
TZOFFSETTO:+0100
TZNAME:CET
DTSTART:20251026T010000
END:STANDARD
END:VTIMEZONE
BEGIN:VEVENT
DTSTART;TZID=Europe/Paris:20251211T090000
DTEND;TZID=Europe/Paris:20251211T170000
DTSTAMP:20260421T172659
CREATED:20250116T150623Z
LAST-MODIFIED:20250116T150623Z
UID:4358-1765443600-1765472400@agapi-formation.fr
SUMMARY:Le portage en lieu d'accueil petite enfance :
DESCRIPTION:
URL:https://agapi-formation.fr/eformation/le-portage-en-lieu-daccueil-petite-enfance-session-1/
END:VEVENT
END:VCALENDAR