BEGIN:VCALENDAR
VERSION:2.0
PRODID:-//Agapi Formation - ECPv6.12.0.1//NONSGML v1.0//EN
CALSCALE:GREGORIAN
METHOD:PUBLISH
X-ORIGINAL-URL:https://agapi-formation.fr
X-WR-CALDESC:Évènements pour Agapi Formation
REFRESH-INTERVAL;VALUE=DURATION:PT1H
X-Robots-Tag:noindex
X-PUBLISHED-TTL:PT1H
BEGIN:VTIMEZONE
TZID:Europe/Paris
BEGIN:DAYLIGHT
TZOFFSETFROM:+0100
TZOFFSETTO:+0200
TZNAME:CEST
DTSTART:20210328T010000
END:DAYLIGHT
BEGIN:STANDARD
TZOFFSETFROM:+0200
TZOFFSETTO:+0100
TZNAME:CET
DTSTART:20211031T010000
END:STANDARD
END:VTIMEZONE
BEGIN:VEVENT
DTSTART;TZID=Europe/Paris:20210202T133000
DTEND;TZID=Europe/Paris:20210202T173000
DTSTAMP:20260425T052915
CREATED:20250116T150517Z
LAST-MODIFIED:20250116T150517Z
UID:4284-1612272600-1612287000@agapi-formation.fr
SUMMARY:A distance: Gestion du stress des professionnels petite enfance.
DESCRIPTION:
URL:https://agapi-formation.fr/eformation/a-distance-gestion-du-stress-des-professionnels-petite-enfance-session-1/
END:VEVENT
BEGIN:VEVENT
DTSTART;TZID=Europe/Paris:20210204T130000
DTEND;TZID=Europe/Paris:20210204T150000
DTSTAMP:20260425T052915
CREATED:20250116T150520Z
LAST-MODIFIED:20250116T150520Z
UID:4288-1612443600-1612450800@agapi-formation.fr
SUMMARY:A distance: Le tout-petit et les histoires: livres\, jeux et comptines
DESCRIPTION:
URL:https://agapi-formation.fr/eformation/a-distance-le-tout-petit-et-les-histoires-livres-jeux-et-comptines-session-1/
END:VEVENT
BEGIN:VEVENT
DTSTART;TZID=Europe/Paris:20210209T130000
DTEND;TZID=Europe/Paris:20210209T150000
DTSTAMP:20260425T052915
CREATED:20250116T150523Z
LAST-MODIFIED:20250116T150523Z
UID:4293-1612875600-1612882800@agapi-formation.fr
SUMMARY:A distance: L’expression des émotions et la communication positive dans la petite enfance.
DESCRIPTION:
URL:https://agapi-formation.fr/eformation/a-distance-lexpression-des-emotions-et-la-communication-positive-dans-la-petite-enfance-session-2/
END:VEVENT
BEGIN:VEVENT
DTSTART;TZID=Europe/Paris:20210211T130000
DTEND;TZID=Europe/Paris:20210211T150000
DTSTAMP:20260425T052915
CREATED:20250116T150520Z
LAST-MODIFIED:20250116T150520Z
UID:4289-1613048400-1613055600@agapi-formation.fr
SUMMARY:A distance: Le tout-petit et les histoires: livres\, jeux et comptines
DESCRIPTION:
URL:https://agapi-formation.fr/eformation/a-distance-le-tout-petit-et-les-histoires-livres-jeux-et-comptines-session-2/
END:VEVENT
END:VCALENDAR