BEGIN:VCALENDAR
VERSION:2.0
PRODID:-//Agapi Formation - ECPv6.12.0.1//NONSGML v1.0//EN
CALSCALE:GREGORIAN
METHOD:PUBLISH
X-WR-CALNAME:Agapi Formation
X-ORIGINAL-URL:https://agapi-formation.fr
X-WR-CALDESC:Évènements pour Agapi Formation
REFRESH-INTERVAL;VALUE=DURATION:PT1H
X-Robots-Tag:noindex
X-PUBLISHED-TTL:PT1H
BEGIN:VTIMEZONE
TZID:Europe/Paris
BEGIN:DAYLIGHT
TZOFFSETFROM:+0100
TZOFFSETTO:+0200
TZNAME:CEST
DTSTART:20210328T010000
END:DAYLIGHT
BEGIN:STANDARD
TZOFFSETFROM:+0200
TZOFFSETTO:+0100
TZNAME:CET
DTSTART:20211031T010000
END:STANDARD
END:VTIMEZONE
BEGIN:VEVENT
DTSTART;TZID=Europe/Paris:20210504T130000
DTEND;TZID=Europe/Paris:20210504T170000
DTSTAMP:20260425T012611
CREATED:20250116T150518Z
LAST-MODIFIED:20250116T150518Z
UID:4285-1620133200-1620147600@agapi-formation.fr
SUMMARY:A distance:Les dangers des écrans pour le jeune enfant.
DESCRIPTION:
URL:https://agapi-formation.fr/eformation/a-distanceles-dangers-des-ecrans-pour-le-jeune-enfant-session-1/
END:VEVENT
BEGIN:VEVENT
DTSTART;TZID=Europe/Paris:20210506T090000
DTEND;TZID=Europe/Paris:20210506T170000
DTSTAMP:20260425T012611
CREATED:20250116T150526Z
LAST-MODIFIED:20250116T150526Z
UID:4297-1620291600-1620320400@agapi-formation.fr
SUMMARY:(a recaler) DES COINS NATURE EN CRECHE\, C'EST POSSIBLE Penser l'espace de vie extérieure.
DESCRIPTION:
URL:https://agapi-formation.fr/eformation/a-recaler-des-coins-nature-en-creche-cest-possible-penser-lespace-de-vie-exterieure-session-1/
LOCATION:AGAPI\, 15 rue Martel\, Paris\, 75010\, France
END:VEVENT
BEGIN:VEVENT
DTSTART;TZID=Europe/Paris:20210520T130000
DTEND;TZID=Europe/Paris:20210520T170000
DTSTAMP:20260425T012611
CREATED:20250116T150521Z
LAST-MODIFIED:20250116T150521Z
UID:4290-1621515600-1621530000@agapi-formation.fr
SUMMARY:A distance: Le tout-petit et les histoires: livres\, jeux et comptines
DESCRIPTION:
URL:https://agapi-formation.fr/eformation/a-distance-le-tout-petit-et-les-histoires-livres-jeux-et-comptines-session-1-2/
END:VEVENT
BEGIN:VEVENT
DTSTART;TZID=Europe/Paris:20210527T090000
DTEND;TZID=Europe/Paris:20210527T170000
DTSTAMP:20260425T012611
CREATED:20250116T150716Z
LAST-MODIFIED:20250116T150716Z
UID:4417-1622106000-1622134800@agapi-formation.fr
SUMMARY:Voir et analyser: Observer le Jeune enfant au quotidien.
DESCRIPTION:
URL:https://agapi-formation.fr/eformation/voir-et-analyser-observer-le-jeune-enfant-au-quotidien-session-1/
LOCATION:AGAPI\, 15 rue Martel\, Paris\, 75010\, France
END:VEVENT
END:VCALENDAR