BEGIN:VCALENDAR
VERSION:2.0
PRODID:-//Agapi Formation - ECPv6.12.0.1//NONSGML v1.0//EN
CALSCALE:GREGORIAN
METHOD:PUBLISH
X-ORIGINAL-URL:https://agapi-formation.fr
X-WR-CALDESC:Évènements pour Agapi Formation
REFRESH-INTERVAL;VALUE=DURATION:PT1H
X-Robots-Tag:noindex
X-PUBLISHED-TTL:PT1H
BEGIN:VTIMEZONE
TZID:Europe/Paris
BEGIN:DAYLIGHT
TZOFFSETFROM:+0100
TZOFFSETTO:+0200
TZNAME:CEST
DTSTART:20210328T010000
END:DAYLIGHT
BEGIN:STANDARD
TZOFFSETFROM:+0200
TZOFFSETTO:+0100
TZNAME:CET
DTSTART:20211031T010000
END:STANDARD
END:VTIMEZONE
BEGIN:VEVENT
DTSTART;TZID=Europe/Paris:20210607T133000
DTEND;TZID=Europe/Paris:20210607T173000
DTSTAMP:20260425T000339
CREATED:20250116T150700Z
LAST-MODIFIED:20250116T150700Z
UID:4398-1623072600-1623087000@agapi-formation.fr
SUMMARY:Nature et créativité.
DESCRIPTION:
URL:https://agapi-formation.fr/eformation/nature-et-creativite-session-1/
END:VEVENT
BEGIN:VEVENT
DTSTART;TZID=Europe/Paris:20210608T090000
DTEND;TZID=Europe/Paris:20210608T170000
DTSTAMP:20260425T000339
CREATED:20250116T150650Z
LAST-MODIFIED:20250116T150650Z
UID:4386-1623142800-1623171600@agapi-formation.fr
SUMMARY:L’expression des émotions et la communication positive dans la petite enfance.
DESCRIPTION:
URL:https://agapi-formation.fr/eformation/lexpression-des-emotions-et-la-communication-positive-dans-la-petite-enfance-session-1-2/
LOCATION:AGAPI\, 15 rue Martel\, Paris\, 75010\, France
END:VEVENT
BEGIN:VEVENT
DTSTART;TZID=Europe/Paris:20210615T090000
DTEND;TZID=Europe/Paris:20210615T130000
DTSTAMP:20260425T000339
CREATED:20250116T150512Z
LAST-MODIFIED:20250116T150512Z
UID:4278-1623747600-1623762000@agapi-formation.fr
SUMMARY:A distance: Ateliers créatifs: jeux de matière et peinture\, libérer l'audace créative des professionnels petite enfance!
DESCRIPTION:
URL:https://agapi-formation.fr/eformation/a-distance-ateliers-creatifs-jeux-de-matiere-et-peinture-liberer-laudace-creative-des-professionnels-petite-enfance-session-1/
END:VEVENT
BEGIN:VEVENT
DTSTART;TZID=Europe/Paris:20210616T100000
DTEND;TZID=Europe/Paris:20210616T160000
DTSTAMP:20260425T000339
CREATED:20250116T150606Z
LAST-MODIFIED:20250116T150606Z
UID:4337-1623837600-1623859200@agapi-formation.fr
SUMMARY:La découverte de la nature du tout-petit et la sensibilisation des plus grands (familles et professionnels) à l’écologie !
DESCRIPTION:
URL:https://agapi-formation.fr/eformation/la-decouverte-de-la-nature-du-tout-petit-et-la-sensibilisation-des-plus-grands-familles-et-professionnels-a-lecologie-session-1/
END:VEVENT
BEGIN:VEVENT
DTSTART;TZID=Europe/Paris:20210622T090000
DTEND;TZID=Europe/Paris:20210622T130000
DTSTAMP:20260425T000339
CREATED:20250116T150513Z
LAST-MODIFIED:20250116T150513Z
UID:4279-1624352400-1624366800@agapi-formation.fr
SUMMARY:A distance: Ateliers créatifs: jeux de matière et peinture\, libérer l'audace créative des professionnels petite enfance!
DESCRIPTION:
URL:https://agapi-formation.fr/eformation/a-distance-ateliers-creatifs-jeux-de-matiere-et-peinture-liberer-laudace-creative-des-professionnels-petite-enfance-session-2/
END:VEVENT
END:VCALENDAR