BEGIN:VCALENDAR
VERSION:2.0
PRODID:-//Agapi Formation - ECPv6.12.0.1//NONSGML v1.0//EN
CALSCALE:GREGORIAN
METHOD:PUBLISH
X-ORIGINAL-URL:https://agapi-formation.fr
X-WR-CALDESC:Évènements pour Agapi Formation
REFRESH-INTERVAL;VALUE=DURATION:PT1H
X-Robots-Tag:noindex
X-PUBLISHED-TTL:PT1H
BEGIN:VTIMEZONE
TZID:Europe/Paris
BEGIN:DAYLIGHT
TZOFFSETFROM:+0100
TZOFFSETTO:+0200
TZNAME:CEST
DTSTART:20220327T010000
END:DAYLIGHT
BEGIN:STANDARD
TZOFFSETFROM:+0200
TZOFFSETTO:+0100
TZNAME:CET
DTSTART:20221030T010000
END:STANDARD
END:VTIMEZONE
BEGIN:VEVENT
DTSTART;TZID=Europe/Paris:20220305T090000
DTEND;TZID=Europe/Paris:20220305T213000
DTSTAMP:20260424T115103
CREATED:20250116T150641Z
LAST-MODIFIED:20250116T150641Z
UID:4374-1646470800-1646515800@agapi-formation.fr
SUMMARY:Le tout petit et les histoires : livres\, jeux et comptines
DESCRIPTION:
URL:https://agapi-formation.fr/eformation/le-tout-petit-et-les-histoires-livres-jeux-et-comptines-session-3/
END:VEVENT
BEGIN:VEVENT
DTSTART;TZID=Europe/Paris:20220310T090000
DTEND;TZID=Europe/Paris:20220310T170000
DTSTAMP:20260424T115103
CREATED:20250116T150718Z
LAST-MODIFIED:20250116T150718Z
UID:4419-1646902800-1646931600@agapi-formation.fr
SUMMARY:Voir et analyser: Observer le Jeune enfant au quotidien.
DESCRIPTION:
URL:https://agapi-formation.fr/eformation/voir-et-analyser-observer-le-jeune-enfant-au-quotidien-session-1-3/
END:VEVENT
BEGIN:VEVENT
DTSTART;TZID=Europe/Paris:20220324T090000
DTEND;TZID=Europe/Paris:20220324T170000
DTSTAMP:20260424T115103
CREATED:20250116T150706Z
LAST-MODIFIED:20250116T150706Z
UID:4405-1648112400-1648141200@agapi-formation.fr
SUMMARY:PEDAGOGIES ACTIVES autour du monde: Découvrir un positionnement de l'adulte qui favorise l'autonomie de l'enfant.
DESCRIPTION:
URL:https://agapi-formation.fr/eformation/pedagogies-actives-autour-du-monde-decouvrir-un-positionnement-de-ladulte-qui-favorise-lautonomie-de-lenfant-session-1/
END:VEVENT
BEGIN:VEVENT
DTSTART;TZID=Europe/Paris:20220325T190000
DTEND;TZID=Europe/Paris:20220325T213000
DTSTAMP:20260424T115103
CREATED:20250116T150642Z
LAST-MODIFIED:20250116T150642Z
UID:4375-1648234800-1648243800@agapi-formation.fr
SUMMARY:Le tout petit et les histoires : livres\, jeux et comptines
DESCRIPTION:
URL:https://agapi-formation.fr/eformation/le-tout-petit-et-les-histoires-livres-jeux-et-comptines-session-4/
END:VEVENT
END:VCALENDAR