BEGIN:VCALENDAR
VERSION:2.0
PRODID:-//Agapi Formation - ECPv6.12.0.1//NONSGML v1.0//EN
CALSCALE:GREGORIAN
METHOD:PUBLISH
X-ORIGINAL-URL:https://agapi-formation.fr
X-WR-CALDESC:Évènements pour Agapi Formation
REFRESH-INTERVAL;VALUE=DURATION:PT1H
X-Robots-Tag:noindex
X-PUBLISHED-TTL:PT1H
BEGIN:VTIMEZONE
TZID:Europe/Paris
BEGIN:DAYLIGHT
TZOFFSETFROM:+0100
TZOFFSETTO:+0200
TZNAME:CEST
DTSTART:20220327T010000
END:DAYLIGHT
BEGIN:STANDARD
TZOFFSETFROM:+0200
TZOFFSETTO:+0100
TZNAME:CET
DTSTART:20221030T010000
END:STANDARD
END:VTIMEZONE
BEGIN:VEVENT
DTSTART;TZID=Europe/Paris:20220611T090000
DTEND;TZID=Europe/Paris:20220611T160000
DTSTAMP:20260424T071726
CREATED:20250116T150626Z
LAST-MODIFIED:20250116T150626Z
UID:4361-1654938000-1654963200@agapi-formation.fr
SUMMARY:Les dangers des écrans pour le jeune enfant.
DESCRIPTION:
URL:https://agapi-formation.fr/eformation/les-dangers-des-ecrans-pour-le-jeune-enfant-session-1/
END:VEVENT
BEGIN:VEVENT
DTSTART;TZID=Europe/Paris:20220616T090000
DTEND;TZID=Europe/Paris:20220616T170000
DTSTAMP:20260424T071726
CREATED:20250116T150528Z
LAST-MODIFIED:20250116T150528Z
UID:4300-1655370000-1655398800@agapi-formation.fr
SUMMARY:Cadre et règles dans la petite enfance: Accompagner autrement\, ajuster son positionnement.
DESCRIPTION:
URL:https://agapi-formation.fr/eformation/cadre-et-regles-dans-la-petite-enfance-accompagner-autrement-ajuster-son-positionnement-session-1/
END:VEVENT
BEGIN:VEVENT
DTSTART;TZID=Europe/Paris:20220623T090000
DTEND;TZID=Europe/Paris:20220623T170000
DTSTAMP:20260424T071726
CREATED:20250116T150658Z
LAST-MODIFIED:20250116T150658Z
UID:4395-1655974800-1656003600@agapi-formation.fr
SUMMARY:Mieux communiquer pour davantage de bien-être au travail : renforcer la cohésion d’équipe.
DESCRIPTION:
URL:https://agapi-formation.fr/eformation/mieux-communiquer-pour-davantage-de-bien-etre-au-travail-renforcer-la-cohesion-dequipe-session-1/
END:VEVENT
BEGIN:VEVENT
DTSTART;TZID=Europe/Paris:20220625T090000
DTEND;TZID=Europe/Paris:20220625T130000
DTSTAMP:20260424T071726
CREATED:20250116T150627Z
LAST-MODIFIED:20250116T150627Z
UID:4362-1656147600-1656162000@agapi-formation.fr
SUMMARY:Les dangers des écrans pour le jeune enfant.
DESCRIPTION:
URL:https://agapi-formation.fr/eformation/les-dangers-des-ecrans-pour-le-jeune-enfant-session-2/
END:VEVENT
END:VCALENDAR