BEGIN:VCALENDAR
VERSION:2.0
PRODID:-//Agapi Formation - ECPv6.12.0.1//NONSGML v1.0//EN
CALSCALE:GREGORIAN
METHOD:PUBLISH
X-WR-CALNAME:Agapi Formation
X-ORIGINAL-URL:https://agapi-formation.fr
X-WR-CALDESC:Évènements pour Agapi Formation
REFRESH-INTERVAL;VALUE=DURATION:PT1H
X-Robots-Tag:noindex
X-PUBLISHED-TTL:PT1H
BEGIN:VTIMEZONE
TZID:Europe/Paris
BEGIN:DAYLIGHT
TZOFFSETFROM:+0100
TZOFFSETTO:+0200
TZNAME:CEST
DTSTART:20220327T010000
END:DAYLIGHT
BEGIN:STANDARD
TZOFFSETFROM:+0200
TZOFFSETTO:+0100
TZNAME:CET
DTSTART:20221030T010000
END:STANDARD
END:VTIMEZONE
BEGIN:VEVENT
DTSTART;TZID=Europe/Paris:20221004T090000
DTEND;TZID=Europe/Paris:20221004T130000
DTSTAMP:20260424T010851
CREATED:20250116T150636Z
LAST-MODIFIED:20250116T150636Z
UID:4369-1664874000-1664888400@agapi-formation.fr
SUMMARY:Le stress chez le jeune enfant : le détecter\, le comprendre et l’accompagner.
DESCRIPTION:
URL:https://agapi-formation.fr/eformation/le-stress-chez-le-jeune-enfant-le-detecter-le-comprendre-et-laccompagner-session-1-2/
END:VEVENT
BEGIN:VEVENT
DTSTART;TZID=Europe/Paris:20221007T090000
DTEND;TZID=Europe/Paris:20221007T170000
DTSTAMP:20260424T010851
CREATED:20250116T150554Z
LAST-MODIFIED:20250116T150554Z
UID:4323-1665133200-1665162000@agapi-formation.fr
SUMMARY:Gestion du stress des professionnels petite enfance.
DESCRIPTION:
URL:https://agapi-formation.fr/eformation/gestion-du-stress-des-professionnels-petite-enfance-session-1/
END:VEVENT
BEGIN:VEVENT
DTSTART;TZID=Europe/Paris:20221013T090000
DTEND;TZID=Europe/Paris:20221013T170000
DTSTAMP:20260424T010851
CREATED:20250116T150647Z
LAST-MODIFIED:20250116T150647Z
UID:4382-1665651600-1665680400@agapi-formation.fr
SUMMARY:L'exploration libre: comment rendre l’enfant acteur de ses découvertes ?
DESCRIPTION:
URL:https://agapi-formation.fr/eformation/lexploration-libre-comment-rendre-lenfant-acteur-de-ses-decouvertes-session-1-2/
END:VEVENT
BEGIN:VEVENT
DTSTART;TZID=Europe/Paris:20221013T090000
DTEND;TZID=Europe/Paris:20221013T170000
DTSTAMP:20260424T010851
CREATED:20250116T150648Z
LAST-MODIFIED:20250116T150648Z
UID:4383-1665651600-1665680400@agapi-formation.fr
SUMMARY:L'exploration libre: comment rendre l’enfant acteur de ses découvertes ?
DESCRIPTION:
URL:https://agapi-formation.fr/eformation/lexploration-libre-comment-rendre-lenfant-acteur-de-ses-decouvertes-session-1-3/
END:VEVENT
BEGIN:VEVENT
DTSTART;TZID=Europe/Paris:20221014T090000
DTEND;TZID=Europe/Paris:20221014T170000
DTSTAMP:20260424T010851
CREATED:20250116T150701Z
LAST-MODIFIED:20250116T150701Z
UID:4399-1665738000-1665766800@agapi-formation.fr
SUMMARY:Nature et créativité.
DESCRIPTION:
URL:https://agapi-formation.fr/eformation/nature-et-creativite-session-1-2/
END:VEVENT
END:VCALENDAR