BEGIN:VCALENDAR
VERSION:2.0
PRODID:-//Agapi Formation - ECPv6.12.0.1//NONSGML v1.0//EN
CALSCALE:GREGORIAN
METHOD:PUBLISH
X-ORIGINAL-URL:https://agapi-formation.fr
X-WR-CALDESC:Évènements pour Agapi Formation
REFRESH-INTERVAL;VALUE=DURATION:PT1H
X-Robots-Tag:noindex
X-PUBLISHED-TTL:PT1H
BEGIN:VTIMEZONE
TZID:Europe/Paris
BEGIN:DAYLIGHT
TZOFFSETFROM:+0100
TZOFFSETTO:+0200
TZNAME:CEST
DTSTART:20220327T010000
END:DAYLIGHT
BEGIN:STANDARD
TZOFFSETFROM:+0200
TZOFFSETTO:+0100
TZNAME:CET
DTSTART:20221030T010000
END:STANDARD
END:VTIMEZONE
BEGIN:VEVENT
DTSTART;TZID=Europe/Paris:20221209T090000
DTEND;TZID=Europe/Paris:20221209T170000
DTSTAMP:20260423T215515
CREATED:20250116T150557Z
LAST-MODIFIED:20250116T150557Z
UID:4327-1670576400-1670605200@agapi-formation.fr
SUMMARY:Introduction à l’interculturalité comme outil dans les pratiques professionnelles
DESCRIPTION:
URL:https://agapi-formation.fr/eformation/introduction-a-linterculturalite-comme-outil-dans-les-pratiques-professionnelles-session-1/
END:VEVENT
BEGIN:VEVENT
DTSTART;TZID=Europe/Paris:20221210T090000
DTEND;TZID=Europe/Paris:20221210T170000
DTSTAMP:20260423T215515
CREATED:20250116T150557Z
LAST-MODIFIED:20250116T150557Z
UID:4328-1670662800-1670691600@agapi-formation.fr
SUMMARY:Introduction à l’interculturalité comme outil dans les pratiques professionnelles
DESCRIPTION:
URL:https://agapi-formation.fr/eformation/introduction-a-linterculturalite-comme-outil-dans-les-pratiques-professionnelles-session-2/
END:VEVENT
END:VCALENDAR