BEGIN:VCALENDAR
VERSION:2.0
PRODID:-//Agapi Formation - ECPv6.12.0.1//NONSGML v1.0//EN
CALSCALE:GREGORIAN
METHOD:PUBLISH
X-WR-CALNAME:Agapi Formation
X-ORIGINAL-URL:https://agapi-formation.fr
X-WR-CALDESC:Évènements pour Agapi Formation
REFRESH-INTERVAL;VALUE=DURATION:PT1H
X-Robots-Tag:noindex
X-PUBLISHED-TTL:PT1H
BEGIN:VTIMEZONE
TZID:Europe/Paris
BEGIN:DAYLIGHT
TZOFFSETFROM:+0100
TZOFFSETTO:+0200
TZNAME:CEST
DTSTART:20230326T010000
END:DAYLIGHT
BEGIN:STANDARD
TZOFFSETFROM:+0200
TZOFFSETTO:+0100
TZNAME:CET
DTSTART:20231029T010000
END:STANDARD
END:VTIMEZONE
BEGIN:VEVENT
DTSTART;TZID=Europe/Paris:20230309T090000
DTEND;TZID=Europe/Paris:20230309T170000
DTSTAMP:20260423T171903
CREATED:20250116T150545Z
LAST-MODIFIED:20250116T150545Z
UID:4314-1678352400-1678381200@agapi-formation.fr
SUMMARY:Éveil moteur\, sensoriel et ludique.
DESCRIPTION:
URL:https://agapi-formation.fr/eformation/eveil-moteur-sensoriel-et-ludique-session-1/
END:VEVENT
BEGIN:VEVENT
DTSTART;TZID=Europe/Paris:20230316T090000
DTEND;TZID=Europe/Paris:20230316T170000
DTSTAMP:20260423T171903
CREATED:20250116T150605Z
LAST-MODIFIED:20250116T150605Z
UID:4336-1678957200-1678986000@agapi-formation.fr
SUMMARY:La découverte de la nature du tout-petit
DESCRIPTION:
URL:https://agapi-formation.fr/eformation/la-decouverte-de-la-nature-du-tout-petit-session-1-3/
END:VEVENT
BEGIN:VEVENT
DTSTART;TZID=Europe/Paris:20230323T133000
DTEND;TZID=Europe/Paris:20230323T173000
DTSTAMP:20260423T171903
CREATED:20250116T150528Z
LAST-MODIFIED:20250116T150528Z
UID:4299-1679578200-1679592600@agapi-formation.fr
SUMMARY:A reporter -Sortir dans l’espace extérieur de la crèche et/ou en dehors de la crèche
DESCRIPTION:
URL:https://agapi-formation.fr/eformation/a-reporter-sortir-dans-lespace-exterieur-de-la-creche-et-ou-en-dehors-de-la-creche-session-1/
END:VEVENT
END:VCALENDAR