BEGIN:VCALENDAR
VERSION:2.0
PRODID:-//Agapi Formation - ECPv6.12.0.1//NONSGML v1.0//EN
CALSCALE:GREGORIAN
METHOD:PUBLISH
X-WR-CALNAME:Agapi Formation
X-ORIGINAL-URL:https://agapi-formation.fr
X-WR-CALDESC:Évènements pour Agapi Formation
REFRESH-INTERVAL;VALUE=DURATION:PT1H
X-Robots-Tag:noindex
X-PUBLISHED-TTL:PT1H
BEGIN:VTIMEZONE
TZID:Europe/Paris
BEGIN:DAYLIGHT
TZOFFSETFROM:+0100
TZOFFSETTO:+0200
TZNAME:CEST
DTSTART:20230326T010000
END:DAYLIGHT
BEGIN:STANDARD
TZOFFSETFROM:+0200
TZOFFSETTO:+0100
TZNAME:CET
DTSTART:20231029T010000
END:STANDARD
END:VTIMEZONE
BEGIN:VEVENT
DTSTART;TZID=Europe/Paris:20230511T090000
DTEND;TZID=Europe/Paris:20230511T170000
DTSTAMP:20260423T142156
CREATED:20250116T150511Z
LAST-MODIFIED:20250116T150511Z
UID:4276-1683795600-1683824400@agapi-formation.fr
SUMMARY:Accompagner le jeune enfant en situation de handicap ou atteint de maladie chronique.
DESCRIPTION:
URL:https://agapi-formation.fr/eformation/accompagner-le-jeune-enfant-en-situation-de-handicap-ou-atteint-de-maladie-chronique-session-1-2/
END:VEVENT
END:VCALENDAR