BEGIN:VCALENDAR
VERSION:2.0
PRODID:-//Agapi Formation - ECPv6.12.0.1//NONSGML v1.0//EN
CALSCALE:GREGORIAN
METHOD:PUBLISH
X-ORIGINAL-URL:https://agapi-formation.fr
X-WR-CALDESC:Évènements pour Agapi Formation
REFRESH-INTERVAL;VALUE=DURATION:PT1H
X-Robots-Tag:noindex
X-PUBLISHED-TTL:PT1H
BEGIN:VTIMEZONE
TZID:Europe/Paris
BEGIN:DAYLIGHT
TZOFFSETFROM:+0100
TZOFFSETTO:+0200
TZNAME:CEST
DTSTART:20230326T010000
END:DAYLIGHT
BEGIN:STANDARD
TZOFFSETFROM:+0200
TZOFFSETTO:+0100
TZNAME:CET
DTSTART:20231029T010000
END:STANDARD
END:VTIMEZONE
BEGIN:VEVENT
DTSTART;TZID=Europe/Paris:20230921T090000
DTEND;TZID=Europe/Paris:20230921T170000
DTSTAMP:20260423T083842
CREATED:20250116T150546Z
LAST-MODIFIED:20250116T150546Z
UID:4315-1695286800-1695315600@agapi-formation.fr
SUMMARY:Éveil sensoriel: Accompagner l'enfant dans la découverte de son corps et du monde
DESCRIPTION:
URL:https://agapi-formation.fr/eformation/eveil-sensoriel-accompagner-lenfant-dans-la-decouverte-de-son-corps-et-du-monde-session-1/
END:VEVENT
END:VCALENDAR