BEGIN:VCALENDAR
VERSION:2.0
PRODID:-//Agapi Formation - ECPv6.12.0.1//NONSGML v1.0//EN
CALSCALE:GREGORIAN
METHOD:PUBLISH
X-ORIGINAL-URL:https://agapi-formation.fr
X-WR-CALDESC:Évènements pour Agapi Formation
REFRESH-INTERVAL;VALUE=DURATION:PT1H
X-Robots-Tag:noindex
X-PUBLISHED-TTL:PT1H
BEGIN:VTIMEZONE
TZID:Europe/Paris
BEGIN:DAYLIGHT
TZOFFSETFROM:+0100
TZOFFSETTO:+0200
TZNAME:CEST
DTSTART:20230326T010000
END:DAYLIGHT
BEGIN:STANDARD
TZOFFSETFROM:+0200
TZOFFSETTO:+0100
TZNAME:CET
DTSTART:20231029T010000
END:STANDARD
END:VTIMEZONE
BEGIN:VEVENT
DTSTART;TZID=Europe/Paris:20231207T090000
DTEND;TZID=Europe/Paris:20231207T170000
DTSTAMP:20260423T042220
CREATED:20250116T150710Z
LAST-MODIFIED:20250116T150710Z
UID:4411-1701939600-1701968400@agapi-formation.fr
SUMMARY:Repérer et accompagner les troubles du spectre autistique \ndès la petite enfance
DESCRIPTION:
URL:https://agapi-formation.fr/eformation/reperer-et-accompagner-les-troubles-du-spectre-autistique-des-la-petite-enfance-session-1-2/
END:VEVENT
BEGIN:VEVENT
DTSTART;TZID=Europe/Paris:20231214T090000
DTEND;TZID=Europe/Paris:20231214T170000
DTSTAMP:20260423T042220
CREATED:20250116T150638Z
LAST-MODIFIED:20250116T150638Z
UID:4371-1702544400-1702573200@agapi-formation.fr
SUMMARY:Le tout petit et les histoires
DESCRIPTION:
URL:https://agapi-formation.fr/eformation/le-tout-petit-et-les-histoires-session-1-2/
END:VEVENT
END:VCALENDAR