BEGIN:VCALENDAR
VERSION:2.0
PRODID:-//Agapi Formation - ECPv6.12.0.1//NONSGML v1.0//EN
CALSCALE:GREGORIAN
METHOD:PUBLISH
X-ORIGINAL-URL:https://agapi-formation.fr
X-WR-CALDESC:Évènements pour Agapi Formation
REFRESH-INTERVAL;VALUE=DURATION:PT1H
X-Robots-Tag:noindex
X-PUBLISHED-TTL:PT1H
BEGIN:VTIMEZONE
TZID:Europe/Paris
BEGIN:DAYLIGHT
TZOFFSETFROM:+0100
TZOFFSETTO:+0200
TZNAME:CEST
DTSTART:20240331T010000
END:DAYLIGHT
BEGIN:STANDARD
TZOFFSETFROM:+0200
TZOFFSETTO:+0100
TZNAME:CET
DTSTART:20241027T010000
END:STANDARD
END:VTIMEZONE
BEGIN:VEVENT
DTSTART;TZID=Europe/Paris:20240404T090000
DTEND;TZID=Europe/Paris:20240404T170000
DTSTAMP:20260422T234944
CREATED:20250116T150651Z
LAST-MODIFIED:20250116T150651Z
UID:4387-1712221200-1712250000@agapi-formation.fr
SUMMARY:L’expression des émotions et la communication positive dans la petite enfance.
DESCRIPTION:
URL:https://agapi-formation.fr/eformation/lexpression-des-emotions-et-la-communication-positive-dans-la-petite-enfance-session-1-3/
END:VEVENT
BEGIN:VEVENT
DTSTART;TZID=Europe/Paris:20240423T090000
DTEND;TZID=Europe/Paris:20240423T123000
DTSTAMP:20260422T234944
CREATED:20250116T150525Z
LAST-MODIFIED:20250116T150525Z
UID:4296-1713862800-1713875400@agapi-formation.fr
SUMMARY:Annuler - Accompagner avec bienveillance le processus de la propreté.
DESCRIPTION:
URL:https://agapi-formation.fr/eformation/annuler-accompagner-avec-bienveillance-le-processus-de-la-proprete-session-1/
END:VEVENT
BEGIN:VEVENT
DTSTART;TZID=Europe/Paris:20240430T090000
DTEND;TZID=Europe/Paris:20240430T170000
DTSTAMP:20260422T234944
CREATED:20250116T150529Z
LAST-MODIFIED:20250116T150529Z
UID:4301-1714467600-1714496400@agapi-formation.fr
SUMMARY:Cohésion d'équipe et management positif
DESCRIPTION:
URL:https://agapi-formation.fr/eformation/cohesion-dequipe-et-management-positif-session-1/
END:VEVENT
END:VCALENDAR