BEGIN:VCALENDAR
VERSION:2.0
PRODID:-//Agapi Formation - ECPv6.12.0.1//NONSGML v1.0//EN
CALSCALE:GREGORIAN
METHOD:PUBLISH
X-ORIGINAL-URL:https://agapi-formation.fr
X-WR-CALDESC:Évènements pour Agapi Formation
REFRESH-INTERVAL;VALUE=DURATION:PT1H
X-Robots-Tag:noindex
X-PUBLISHED-TTL:PT1H
BEGIN:VTIMEZONE
TZID:Europe/Paris
BEGIN:DAYLIGHT
TZOFFSETFROM:+0100
TZOFFSETTO:+0200
TZNAME:CEST
DTSTART:20240331T010000
END:DAYLIGHT
BEGIN:STANDARD
TZOFFSETFROM:+0200
TZOFFSETTO:+0100
TZNAME:CET
DTSTART:20241027T010000
END:STANDARD
END:VTIMEZONE
BEGIN:VEVENT
DTSTART;TZID=Europe/Paris:20240523T090000
DTEND;TZID=Europe/Paris:20240523T160000
DTSTAMP:20260422T204141
CREATED:20250116T150621Z
LAST-MODIFIED:20250116T150621Z
UID:4355-1716454800-1716480000@agapi-formation.fr
SUMMARY:Le jeune enfant et les écrans: sensibiliser les familles pour un usage adapté
DESCRIPTION:
URL:https://agapi-formation.fr/eformation/le-jeune-enfant-et-les-ecrans-sensibiliser-les-familles-pour-un-usage-adapte-session-1/
END:VEVENT
BEGIN:VEVENT
DTSTART;TZID=Europe/Paris:20240531T090000
DTEND;TZID=Europe/Paris:20240531T170000
DTSTAMP:20260422T204141
CREATED:20250116T150713Z
LAST-MODIFIED:20250116T150713Z
UID:4414-1717146000-1717174800@agapi-formation.fr
SUMMARY:Soutien à la parentalité: Développer son écoute pour accompagner les familles au quotidien
DESCRIPTION:
URL:https://agapi-formation.fr/eformation/soutien-a-la-parentalite-developper-son-ecoute-pour-accompagner-les-familles-au-quotidien-session-1/
END:VEVENT
END:VCALENDAR