BEGIN:VCALENDAR
VERSION:2.0
PRODID:-//Agapi Formation - ECPv6.12.0.1//NONSGML v1.0//EN
CALSCALE:GREGORIAN
METHOD:PUBLISH
X-WR-CALNAME:Agapi Formation
X-ORIGINAL-URL:https://agapi-formation.fr
X-WR-CALDESC:Évènements pour Agapi Formation
REFRESH-INTERVAL;VALUE=DURATION:PT1H
X-Robots-Tag:noindex
X-PUBLISHED-TTL:PT1H
BEGIN:VTIMEZONE
TZID:Europe/Paris
BEGIN:DAYLIGHT
TZOFFSETFROM:+0100
TZOFFSETTO:+0200
TZNAME:CEST
DTSTART:20240331T010000
END:DAYLIGHT
BEGIN:STANDARD
TZOFFSETFROM:+0200
TZOFFSETTO:+0100
TZNAME:CET
DTSTART:20241027T010000
END:STANDARD
END:VTIMEZONE
BEGIN:VEVENT
DTSTART;TZID=Europe/Paris:20240604T090000
DTEND;TZID=Europe/Paris:20240604T170000
DTSTAMP:20260422T185950
CREATED:20250116T150621Z
LAST-MODIFIED:20250116T150621Z
UID:4354-1717491600-1717520400@agapi-formation.fr
SUMMARY:L’égalité filles-garçons en structure petite enfance\, \nPour un accompagnement respectueux des tout-petits
DESCRIPTION:
URL:https://agapi-formation.fr/eformation/legalite-filles-garcons-en-structure-petite-enfance-pour-un-accompagnement-respectueux-des-tout-petits-session-1/
END:VEVENT
BEGIN:VEVENT
DTSTART;TZID=Europe/Paris:20240613T090000
DTEND;TZID=Europe/Paris:20240613T170000
DTSTAMP:20260422T185950
CREATED:20250116T150542Z
LAST-MODIFIED:20250116T150542Z
UID:4311-1718269200-1718298000@agapi-formation.fr
SUMMARY:Enfance en danger
DESCRIPTION:
URL:https://agapi-formation.fr/eformation/enfance-en-danger-session-1/
END:VEVENT
BEGIN:VEVENT
DTSTART;TZID=Europe/Paris:20240618T090000
DTEND;TZID=Europe/Paris:20240618T170000
DTSTAMP:20260422T185950
CREATED:20250116T150547Z
LAST-MODIFIED:20250116T150547Z
UID:4316-1718701200-1718730000@agapi-formation.fr
SUMMARY:Eveil Sensoriel\, Moteur et Ludique
DESCRIPTION:
URL:https://agapi-formation.fr/eformation/eveil-sensoriel-moteur-et-ludique-session-1/
END:VEVENT
BEGIN:VEVENT
DTSTART;TZID=Europe/Paris:20240627T090000
DTEND;TZID=Europe/Paris:20240627T170000
DTSTAMP:20260422T185950
CREATED:20250116T150703Z
LAST-MODIFIED:20250116T150703Z
UID:4402-1719478800-1719507600@agapi-formation.fr
SUMMARY:Optimiser son organisation au travail
DESCRIPTION:
URL:https://agapi-formation.fr/eformation/optimiser-son-organisation-au-travail-session-1/
END:VEVENT
END:VCALENDAR