BEGIN:VCALENDAR
VERSION:2.0
PRODID:-//Agapi Formation - ECPv6.12.0.1//NONSGML v1.0//EN
CALSCALE:GREGORIAN
METHOD:PUBLISH
X-WR-CALNAME:Agapi Formation
X-ORIGINAL-URL:https://agapi-formation.fr
X-WR-CALDESC:Évènements pour Agapi Formation
REFRESH-INTERVAL;VALUE=DURATION:PT1H
X-Robots-Tag:noindex
X-PUBLISHED-TTL:PT1H
BEGIN:VTIMEZONE
TZID:Europe/Paris
BEGIN:DAYLIGHT
TZOFFSETFROM:+0100
TZOFFSETTO:+0200
TZNAME:CEST
DTSTART:20240331T010000
END:DAYLIGHT
BEGIN:STANDARD
TZOFFSETFROM:+0200
TZOFFSETTO:+0100
TZNAME:CET
DTSTART:20241027T010000
END:STANDARD
END:VTIMEZONE
BEGIN:VEVENT
DTSTART;TZID=Europe/Paris:20241001T090000
DTEND;TZID=Europe/Paris:20241001T170000
DTSTAMP:20260422T125458
CREATED:20240906T132526Z
LAST-MODIFIED:20240910T143104Z
UID:2210-1727773200-1727802000@agapi-formation.fr
SUMMARY:S'émerveiller au quotidien grâce à l'activité libre et ludique
DESCRIPTION:
URL:https://agapi-formation.fr/eformation/semerveillerauquotidiengracealactivitelibreetludique/
LOCATION:AGAPI\, 15 rue Martel\, Paris\, 75010\, France
END:VEVENT
BEGIN:VEVENT
DTSTART;TZID=Europe/Paris:20241001T090000
DTEND;TZID=Europe/Paris:20241001T170000
DTSTAMP:20260422T125458
CREATED:20250116T150712Z
LAST-MODIFIED:20250116T150712Z
UID:4413-1727773200-1727802000@agapi-formation.fr
SUMMARY:S'émerveiller au quotidien grâce à l'activité ludique et libre
DESCRIPTION:
URL:https://agapi-formation.fr/eformation/semerveiller-au-quotidien-grace-a-lactivite-ludique-et-libre-session-1/
END:VEVENT
BEGIN:VEVENT
DTSTART;TZID=Europe/Paris:20241010T090000
DTEND;TZID=Europe/Paris:20241010T160000
DTSTAMP:20260422T125458
CREATED:20240910T145125Z
LAST-MODIFIED:20240910T145125Z
UID:4181-1728550800-1728576000@agapi-formation.fr
SUMMARY:Favoriser la découverte de la nature par le tout-petit
DESCRIPTION:
URL:https://agapi-formation.fr/eformation/favoriser-la-decouverte-de-la-nature-par-le-tout-petit/
LOCATION:Visio
END:VEVENT
BEGIN:VEVENT
DTSTART;TZID=Europe/Paris:20241010T090000
DTEND;TZID=Europe/Paris:20241010T160000
DTSTAMP:20260422T125458
CREATED:20250116T150603Z
LAST-MODIFIED:20250116T150603Z
UID:4335-1728550800-1728576000@agapi-formation.fr
SUMMARY:La découverte de la nature du tout-petit
DESCRIPTION:
URL:https://agapi-formation.fr/eformation/la-decouverte-de-la-nature-du-tout-petit-session-1-2/
END:VEVENT
BEGIN:VEVENT
DTSTART;TZID=Europe/Paris:20241015T090000
DTEND;TZID=Europe/Paris:20241015T160000
DTSTAMP:20260422T125458
CREATED:20240910T145527Z
LAST-MODIFIED:20240910T145527Z
UID:4184-1728982800-1729008000@agapi-formation.fr
SUMMARY:Soutien à la parentalité : développer son écoute pour accompagner les familles au quotidien
DESCRIPTION:
URL:https://agapi-formation.fr/eformation/soutien-a-la-parentalite/
LOCATION:Visio
END:VEVENT
BEGIN:VEVENT
DTSTART;TZID=Europe/Paris:20241015T090000
DTEND;TZID=Europe/Paris:20241015T160000
DTSTAMP:20260422T125458
CREATED:20250116T150714Z
LAST-MODIFIED:20250116T150714Z
UID:4415-1728982800-1729008000@agapi-formation.fr
SUMMARY:Soutien à la parentalité: Développer son écoute pour accompagner les familles au quotidien
DESCRIPTION:
URL:https://agapi-formation.fr/eformation/soutien-a-la-parentalite-developper-son-ecoute-pour-accompagner-les-familles-au-quotidien-session-1-2/
END:VEVENT
END:VCALENDAR