BEGIN:VCALENDAR
VERSION:2.0
PRODID:-//Agapi Formation - ECPv6.12.0.1//NONSGML v1.0//EN
CALSCALE:GREGORIAN
METHOD:PUBLISH
X-WR-CALNAME:Agapi Formation
X-ORIGINAL-URL:https://agapi-formation.fr
X-WR-CALDESC:Évènements pour Agapi Formation
REFRESH-INTERVAL;VALUE=DURATION:PT1H
X-Robots-Tag:noindex
X-PUBLISHED-TTL:PT1H
BEGIN:VTIMEZONE
TZID:Europe/Paris
BEGIN:DAYLIGHT
TZOFFSETFROM:+0100
TZOFFSETTO:+0200
TZNAME:CEST
DTSTART:20240331T010000
END:DAYLIGHT
BEGIN:STANDARD
TZOFFSETFROM:+0200
TZOFFSETTO:+0100
TZNAME:CET
DTSTART:20241027T010000
END:STANDARD
END:VTIMEZONE
BEGIN:VEVENT
DTSTART;TZID=Europe/Paris:20241107T090000
DTEND;TZID=Europe/Paris:20241107T160000
DTSTAMP:20260422T112317
CREATED:20240910T145804Z
LAST-MODIFIED:20240910T145804Z
UID:4186-1730970000-1730995200@agapi-formation.fr
SUMMARY:Nature et créativité
DESCRIPTION:
URL:https://agapi-formation.fr/eformation/nature-et-creativite/
LOCATION:Visio
END:VEVENT
BEGIN:VEVENT
DTSTART;TZID=Europe/Paris:20241107T090000
DTEND;TZID=Europe/Paris:20241107T160000
DTSTAMP:20260422T112317
CREATED:20250116T150702Z
LAST-MODIFIED:20250116T150702Z
UID:4400-1730970000-1730995200@agapi-formation.fr
SUMMARY:Nature et créativité.
DESCRIPTION:
URL:https://agapi-formation.fr/eformation/nature-et-creativite-session-1-3/
END:VEVENT
BEGIN:VEVENT
DTSTART;TZID=Europe/Paris:20241114T090000
DTEND;TZID=Europe/Paris:20241114T170000
DTSTAMP:20260422T112317
CREATED:20240910T153025Z
LAST-MODIFIED:20240910T153025Z
UID:4202-1731574800-1731603600@agapi-formation.fr
SUMMARY:Communiquer et transmettre aux familles et aux pros
DESCRIPTION:
URL:https://agapi-formation.fr/eformation/communiquer-et-transmettre-aux-familles-et-aux-pros/
LOCATION:Visio
END:VEVENT
BEGIN:VEVENT
DTSTART;TZID=Europe/Paris:20241114T090000
DTEND;TZID=Europe/Paris:20241114T170000
DTSTAMP:20260422T112317
CREATED:20250116T150530Z
LAST-MODIFIED:20250116T150530Z
UID:4302-1731574800-1731603600@agapi-formation.fr
SUMMARY:Communiquer et transmettre aux familles et aux professionnels.
DESCRIPTION:
URL:https://agapi-formation.fr/eformation/communiquer-et-transmettre-aux-familles-et-aux-professionnels-session-1/
END:VEVENT
BEGIN:VEVENT
DTSTART;TZID=Europe/Paris:20241119T090000
DTEND;TZID=Europe/Paris:20241119T170000
DTSTAMP:20260422T112317
CREATED:20240910T150148Z
LAST-MODIFIED:20240910T150148Z
UID:4188-1732006800-1732035600@agapi-formation.fr
SUMMARY:Repérer et accompagner les troubles du spectre autistique dès la petite enfance
DESCRIPTION:
URL:https://agapi-formation.fr/eformation/reperer-et-accompagner-les-troubles-du-spectre-autistique/
LOCATION:AGAPI\, 15 rue Martel\, Paris\, 75010\, France
END:VEVENT
BEGIN:VEVENT
DTSTART;TZID=Europe/Paris:20241119T090000
DTEND;TZID=Europe/Paris:20241119T170000
DTSTAMP:20260422T112317
CREATED:20250116T150710Z
LAST-MODIFIED:20250116T150710Z
UID:4410-1732006800-1732035600@agapi-formation.fr
SUMMARY:Repérer et accompagner les troubles du spectre autistique \ndès la petite enfance
DESCRIPTION:
URL:https://agapi-formation.fr/eformation/reperer-et-accompagner-les-troubles-du-spectre-autistique-des-la-petite-enfance-session-1/
END:VEVENT
BEGIN:VEVENT
DTSTART;TZID=Europe/Paris:20241126T090000
DTEND;TZID=Europe/Paris:20241126T170000
DTSTAMP:20260422T112317
CREATED:20250116T150609Z
LAST-MODIFIED:20250116T150609Z
UID:4341-1732611600-1732640400@agapi-formation.fr
SUMMARY:La mise en place de projets d’équipe positifs et dynamisants \n(méthodologie de gestion de projet)
DESCRIPTION:
URL:https://agapi-formation.fr/eformation/la-mise-en-place-de-projets-dequipe-positifs-et-dynamisants-methodologie-de-gestion-de-projet-session-1/
END:VEVENT
BEGIN:VEVENT
DTSTART;TZID=Europe/Paris:20241127T090000
DTEND;TZID=Europe/Paris:20241127T170000
DTSTAMP:20260422T112317
CREATED:20250116T150535Z
LAST-MODIFIED:20250116T150535Z
UID:4306-1732698000-1732726800@agapi-formation.fr
SUMMARY:Construire et accompagner des ateliers parents-enfants-professionnels.
DESCRIPTION:
URL:https://agapi-formation.fr/eformation/construire-et-accompagner-des-ateliers-parents-enfants-professionnels-session-1/
END:VEVENT
END:VCALENDAR