BEGIN:VCALENDAR
VERSION:2.0
PRODID:-//Agapi Formation - ECPv6.12.0.1//NONSGML v1.0//EN
CALSCALE:GREGORIAN
METHOD:PUBLISH
X-WR-CALNAME:Agapi Formation
X-ORIGINAL-URL:https://agapi-formation.fr
X-WR-CALDESC:Évènements pour Agapi Formation
REFRESH-INTERVAL;VALUE=DURATION:PT1H
X-Robots-Tag:noindex
X-PUBLISHED-TTL:PT1H
BEGIN:VTIMEZONE
TZID:Europe/Paris
BEGIN:DAYLIGHT
TZOFFSETFROM:+0100
TZOFFSETTO:+0200
TZNAME:CEST
DTSTART:20250330T010000
END:DAYLIGHT
BEGIN:STANDARD
TZOFFSETFROM:+0200
TZOFFSETTO:+0100
TZNAME:CET
DTSTART:20251026T010000
END:STANDARD
END:VTIMEZONE
BEGIN:VEVENT
DTSTART;TZID=Europe/Paris:20250207T140000
DTEND;TZID=Europe/Paris:20251003T160000
DTSTAMP:20260422T034155
CREATED:20240911T082950Z
LAST-MODIFIED:20240911T082950Z
UID:4254-1738936800-1759507200@agapi-formation.fr
SUMMARY:Analyse des pratiques professionnelles pour équipe de direction - GROUPE 1
DESCRIPTION:Saviez-vous que l’Analyse des Pratiques est devenue une obligation depuis la réforme Norma ? \nEt cette obligation\, c’est pour tous ! C’est pourquoi nous vous proposons de créer des groupes de 4 à 10 personnes (max) pour se retrouver 3 fois dans l’année pour pouvoir partager et analyser vos pratiques de direction avec des formateurs certifiés en Analyse des pratiques professionnels.
URL:https://agapi-formation.fr/eformation/analyse-des-pratiques-professionnelles-pour-equipe-de-direction-groupe-1/
LOCATION:AGAPI\, 15 rue Martel\, Paris\, 75010\, France
END:VEVENT
BEGIN:VEVENT
DTSTART;TZID=Europe/Paris:20250331T140000
DTEND;TZID=Europe/Paris:20251201T160000
DTSTAMP:20260422T034155
CREATED:20240911T083149Z
LAST-MODIFIED:20260215T090954Z
UID:4256-1743429600-1764604800@agapi-formation.fr
SUMMARY:Analyse des pratiques professionnelles pour équipe de direction - GROUPE 2
DESCRIPTION:Saviez-vous que l’Analyse des Pratiques est devenue une obligation depuis la réforme Norma ? \nEt cette obligation\, c’est pour tous ! C’est pourquoi nous vous proposons de créer des groupes de 4 à 10 personnes (max) pour se retrouver 3 fois dans l’année pour pouvoir partager et analyser vos pratiques de direction avec des formateurs certifiés en Analyse des pratiques professionnels.
URL:https://agapi-formation.fr/eformation/analyse-des-pratiques-professionnelles-pour-equipe-de-direction-groupe-2/
LOCATION:AGAPI\, 15 rue Martel\, Paris\, 75010\, France
END:VEVENT
BEGIN:VEVENT
DTSTART;TZID=Europe/Paris:20250403T090000
DTEND;TZID=Europe/Paris:20250403T160000
DTSTAMP:20260422T034155
CREATED:20240911T070036Z
LAST-MODIFIED:20240911T070045Z
UID:4211-1743670800-1743696000@agapi-formation.fr
SUMMARY:Prendre soin de soi et prévenir l’épuisement professionnel
DESCRIPTION:
URL:https://agapi-formation.fr/eformation/prendre-soin-de-soi-et-prevenir-lepuisement-professionnel/
LOCATION:Visio
END:VEVENT
BEGIN:VEVENT
DTSTART;TZID=Europe/Paris:20250403T090000
DTEND;TZID=Europe/Paris:20250403T160000
DTSTAMP:20260422T034155
CREATED:20250116T150707Z
LAST-MODIFIED:20250116T150707Z
UID:4406-1743670800-1743696000@agapi-formation.fr
SUMMARY:Prendre soin de soi et prévenir de l'épuisement professionnel
DESCRIPTION:
URL:https://agapi-formation.fr/eformation/prendre-soin-de-soi-et-prevenir-de-lepuisement-professionnel-session-1/
END:VEVENT
BEGIN:VEVENT
DTSTART;TZID=Europe/Paris:20250408T090000
DTEND;TZID=Europe/Paris:20250408T160000
DTSTAMP:20260422T034155
CREATED:20240911T070258Z
LAST-MODIFIED:20240911T070258Z
UID:4214-1744102800-1744128000@agapi-formation.fr
SUMMARY:Favoriser la découverte de la nature par le tout petit
DESCRIPTION:
URL:https://agapi-formation.fr/eformation/favoriser-la-decouverte-de-la-nature-par-le-tout-petit-2/
LOCATION:Visio
END:VEVENT
BEGIN:VEVENT
DTSTART;TZID=Europe/Paris:20250408T090000
DTEND;TZID=Europe/Paris:20250408T160000
DTSTAMP:20260422T034155
CREATED:20250116T150550Z
LAST-MODIFIED:20250116T150550Z
UID:4319-1744102800-1744128000@agapi-formation.fr
SUMMARY:Favoriser la découverte de la nature par le tout-petit
DESCRIPTION:
URL:https://agapi-formation.fr/eformation/favoriser-la-decouverte-de-la-nature-par-le-tout-petit-session-1/
END:VEVENT
BEGIN:VEVENT
DTSTART;TZID=Europe/Paris:20250410T090000
DTEND;TZID=Europe/Paris:20250410T160000
DTSTAMP:20260422T034155
CREATED:20240911T081038Z
LAST-MODIFIED:20240911T081038Z
UID:4246-1744275600-1744300800@agapi-formation.fr
SUMMARY:Créer des projets d'équipe positifs et dynamisants : Méthodologie de projet et pratiques innovantes
DESCRIPTION:FORMATION SPECIALE DIRECTION
URL:https://agapi-formation.fr/eformation/creer-des-projets-dequipe-positifs-et-dynamisants/
LOCATION:Visio
END:VEVENT
BEGIN:VEVENT
DTSTART;TZID=Europe/Paris:20250410T090000
DTEND;TZID=Europe/Paris:20250410T160000
DTSTAMP:20260422T034155
CREATED:20250116T150538Z
LAST-MODIFIED:20250116T150538Z
UID:4307-1744275600-1744300800@agapi-formation.fr
SUMMARY:Créer des projets d'équipe positifs et dynamisants :
DESCRIPTION:
URL:https://agapi-formation.fr/eformation/creer-des-projets-dequipe-positifs-et-dynamisants-session-1/
END:VEVENT
END:VCALENDAR