BEGIN:VCALENDAR
VERSION:2.0
PRODID:-//Agapi Formation - ECPv6.12.0.1//NONSGML v1.0//EN
CALSCALE:GREGORIAN
METHOD:PUBLISH
X-ORIGINAL-URL:https://agapi-formation.fr
X-WR-CALDESC:Évènements pour Agapi Formation
REFRESH-INTERVAL;VALUE=DURATION:PT1H
X-Robots-Tag:noindex
X-PUBLISHED-TTL:PT1H
BEGIN:VTIMEZONE
TZID:Europe/Paris
BEGIN:DAYLIGHT
TZOFFSETFROM:+0100
TZOFFSETTO:+0200
TZNAME:CEST
DTSTART:20250330T010000
END:DAYLIGHT
BEGIN:STANDARD
TZOFFSETFROM:+0200
TZOFFSETTO:+0100
TZNAME:CET
DTSTART:20251026T010000
END:STANDARD
END:VTIMEZONE
BEGIN:VEVENT
DTSTART;TZID=Europe/Paris:20250207T140000
DTEND;TZID=Europe/Paris:20251003T160000
DTSTAMP:20260421T231348
CREATED:20240911T082950Z
LAST-MODIFIED:20240911T082950Z
UID:4254-1738936800-1759507200@agapi-formation.fr
SUMMARY:Analyse des pratiques professionnelles pour équipe de direction - GROUPE 1
DESCRIPTION:Saviez-vous que l’Analyse des Pratiques est devenue une obligation depuis la réforme Norma ? \nEt cette obligation\, c’est pour tous ! C’est pourquoi nous vous proposons de créer des groupes de 4 à 10 personnes (max) pour se retrouver 3 fois dans l’année pour pouvoir partager et analyser vos pratiques de direction avec des formateurs certifiés en Analyse des pratiques professionnels.
URL:https://agapi-formation.fr/eformation/analyse-des-pratiques-professionnelles-pour-equipe-de-direction-groupe-1/
LOCATION:AGAPI\, 15 rue Martel\, Paris\, 75010\, France
END:VEVENT
BEGIN:VEVENT
DTSTART;TZID=Europe/Paris:20250331T140000
DTEND;TZID=Europe/Paris:20251201T160000
DTSTAMP:20260421T231348
CREATED:20240911T083149Z
LAST-MODIFIED:20260215T090954Z
UID:4256-1743429600-1764604800@agapi-formation.fr
SUMMARY:Analyse des pratiques professionnelles pour équipe de direction - GROUPE 2
DESCRIPTION:Saviez-vous que l’Analyse des Pratiques est devenue une obligation depuis la réforme Norma ? \nEt cette obligation\, c’est pour tous ! C’est pourquoi nous vous proposons de créer des groupes de 4 à 10 personnes (max) pour se retrouver 3 fois dans l’année pour pouvoir partager et analyser vos pratiques de direction avec des formateurs certifiés en Analyse des pratiques professionnels.
URL:https://agapi-formation.fr/eformation/analyse-des-pratiques-professionnelles-pour-equipe-de-direction-groupe-2/
LOCATION:AGAPI\, 15 rue Martel\, Paris\, 75010\, France
END:VEVENT
BEGIN:VEVENT
DTSTART;TZID=Europe/Paris:20250704T090000
DTEND;TZID=Europe/Paris:20250704T160000
DTSTAMP:20260421T231348
CREATED:20240911T072545Z
LAST-MODIFIED:20240911T072545Z
UID:4226-1751619600-1751644800@agapi-formation.fr
SUMMARY:L’adaptation / familiarisation : Le temps du premier accueil et de la première rencontre
DESCRIPTION:
URL:https://agapi-formation.fr/eformation/adaptation-familiarisation-le-temps-du-premier-accueil-et-de-la-premiere-rencontre/
LOCATION:Visio
END:VEVENT
BEGIN:VEVENT
DTSTART;TZID=Europe/Paris:20250704T090000
DTEND;TZID=Europe/Paris:20250704T160000
DTSTAMP:20260421T231348
CREATED:20250116T150602Z
LAST-MODIFIED:20250116T150602Z
UID:4333-1751619600-1751644800@agapi-formation.fr
SUMMARY:L' Adaptation / Familiarisation :
DESCRIPTION:
URL:https://agapi-formation.fr/eformation/l-adaptation-familiarisation-session-1/
END:VEVENT
END:VCALENDAR