BEGIN:VCALENDAR
VERSION:2.0
PRODID:-//Agapi Formation - ECPv6.12.0.1//NONSGML v1.0//EN
CALSCALE:GREGORIAN
METHOD:PUBLISH
X-ORIGINAL-URL:https://agapi-formation.fr
X-WR-CALDESC:Évènements pour Agapi Formation
REFRESH-INTERVAL;VALUE=DURATION:PT1H
X-Robots-Tag:noindex
X-PUBLISHED-TTL:PT1H
BEGIN:VTIMEZONE
TZID:Europe/Paris
BEGIN:DAYLIGHT
TZOFFSETFROM:+0100
TZOFFSETTO:+0200
TZNAME:CEST
DTSTART:20250330T010000
END:DAYLIGHT
BEGIN:STANDARD
TZOFFSETFROM:+0200
TZOFFSETTO:+0100
TZNAME:CET
DTSTART:20251026T010000
END:STANDARD
END:VTIMEZONE
BEGIN:VEVENT
DTSTART;TZID=Europe/Paris:20250331T140000
DTEND;TZID=Europe/Paris:20251201T160000
DTSTAMP:20260421T172729
CREATED:20240911T083149Z
LAST-MODIFIED:20260215T090954Z
UID:4256-1743429600-1764604800@agapi-formation.fr
SUMMARY:Analyse des pratiques professionnelles pour équipe de direction - GROUPE 2
DESCRIPTION:Saviez-vous que l’Analyse des Pratiques est devenue une obligation depuis la réforme Norma ? \nEt cette obligation\, c’est pour tous ! C’est pourquoi nous vous proposons de créer des groupes de 4 à 10 personnes (max) pour se retrouver 3 fois dans l’année pour pouvoir partager et analyser vos pratiques de direction avec des formateurs certifiés en Analyse des pratiques professionnels.
URL:https://agapi-formation.fr/eformation/analyse-des-pratiques-professionnelles-pour-equipe-de-direction-groupe-2/
LOCATION:AGAPI\, 15 rue Martel\, Paris\, 75010\, France
END:VEVENT
BEGIN:VEVENT
DTSTART;TZID=Europe/Paris:20251106T090000
DTEND;TZID=Europe/Paris:20251106T160000
DTSTAMP:20260421T172729
CREATED:20240911T073534Z
LAST-MODIFIED:20240911T073534Z
UID:4234-1762419600-1762444800@agapi-formation.fr
SUMMARY:Voir et analyser : Observer le jeune enfant au quotidien
DESCRIPTION:
URL:https://agapi-formation.fr/eformation/voir-et-analyser-observer-le-jeune-enfant-au-quotidien/
LOCATION:Visio
END:VEVENT
BEGIN:VEVENT
DTSTART;TZID=Europe/Paris:20251106T090000
DTEND;TZID=Europe/Paris:20251106T160000
DTSTAMP:20260421T172729
CREATED:20250116T150715Z
LAST-MODIFIED:20250116T150715Z
UID:4416-1762419600-1762444800@agapi-formation.fr
SUMMARY:Voir et analyser :
DESCRIPTION:
URL:https://agapi-formation.fr/eformation/voir-et-analyser-session-1/
END:VEVENT
BEGIN:VEVENT
DTSTART;TZID=Europe/Paris:20251113T090000
DTEND;TZID=Europe/Paris:20251113T160000
DTSTAMP:20260421T172729
CREATED:20240911T073756Z
LAST-MODIFIED:20240911T073942Z
UID:4236-1763024400-1763049600@agapi-formation.fr
SUMMARY:Détecter\, accompagner et orienter les enfants présentant un développement atypique
DESCRIPTION:
URL:https://agapi-formation.fr/eformation/detecter-accompagner-et-orienter-les-enfants-presentant-un-developpement-atypique/
LOCATION:Visio
END:VEVENT
BEGIN:VEVENT
DTSTART;TZID=Europe/Paris:20251113T090000
DTEND;TZID=Europe/Paris:20251113T160000
DTSTAMP:20260421T172729
CREATED:20250116T150539Z
LAST-MODIFIED:20250116T150539Z
UID:4308-1763024400-1763049600@agapi-formation.fr
SUMMARY:Détecter\, accompagner et orienter les enfants présentant un développement atypique
DESCRIPTION:
URL:https://agapi-formation.fr/eformation/detecter-accompagner-et-orienter-les-enfants-presentant-un-developpement-atypique-session-1/
END:VEVENT
BEGIN:VEVENT
DTSTART;TZID=Europe/Paris:20251119T090000
DTEND;TZID=Europe/Paris:20251119T170000
DTSTAMP:20260421T172729
CREATED:20240911T074115Z
LAST-MODIFIED:20240911T074115Z
UID:4238-1763542800-1763571600@agapi-formation.fr
SUMMARY:Le kamishibaï : Créer un outil pédagogique narratif au service de la petite enfance
DESCRIPTION:
URL:https://agapi-formation.fr/eformation/le-kamishibai-creer-un-outil-pedagogique-narratif-au-service-de-la-petite-enfance/
LOCATION:AGAPI\, 15 rue Martel\, Paris\, 75010\, France
END:VEVENT
BEGIN:VEVENT
DTSTART;TZID=Europe/Paris:20251119T090000
DTEND;TZID=Europe/Paris:20251119T170000
DTSTAMP:20260421T172729
CREATED:20250116T150622Z
LAST-MODIFIED:20250116T150622Z
UID:4356-1763542800-1763571600@agapi-formation.fr
SUMMARY:Le Kamishibaï :
DESCRIPTION:
URL:https://agapi-formation.fr/eformation/le-kamishibai-session-1/
END:VEVENT
BEGIN:VEVENT
DTSTART;TZID=Europe/Paris:20251127T090000
DTEND;TZID=Europe/Paris:20251127T170000
DTSTAMP:20260421T172729
CREATED:20240911T074315Z
LAST-MODIFIED:20240911T074315Z
UID:4240-1764234000-1764262800@agapi-formation.fr
SUMMARY:L'éveil par le jeu : Des propositions pédagogiques au quotidien
DESCRIPTION:
URL:https://agapi-formation.fr/eformation/leveil-par-le-jeu-des-propositions-pedagogiques-au-quotidien/
LOCATION:AGAPI\, 15 rue Martel\, Paris\, 75010\, France
END:VEVENT
BEGIN:VEVENT
DTSTART;TZID=Europe/Paris:20251127T090000
DTEND;TZID=Europe/Paris:20251127T170000
DTSTAMP:20260421T172729
CREATED:20250116T150645Z
LAST-MODIFIED:20250116T150645Z
UID:4380-1764234000-1764262800@agapi-formation.fr
SUMMARY:L'éveil par le jeu :
DESCRIPTION:
URL:https://agapi-formation.fr/eformation/leveil-par-le-jeu-session-1/
END:VEVENT
END:VCALENDAR