BEGIN:VCALENDAR
VERSION:2.0
PRODID:-//Agapi Formation - ECPv6.12.0.1//NONSGML v1.0//EN
CALSCALE:GREGORIAN
METHOD:PUBLISH
X-ORIGINAL-URL:https://agapi-formation.fr
X-WR-CALDESC:Évènements pour Agapi Formation
REFRESH-INTERVAL;VALUE=DURATION:PT1H
X-Robots-Tag:noindex
X-PUBLISHED-TTL:PT1H
BEGIN:VTIMEZONE
TZID:Europe/Paris
BEGIN:DAYLIGHT
TZOFFSETFROM:+0100
TZOFFSETTO:+0200
TZNAME:CEST
DTSTART:20260329T010000
END:DAYLIGHT
BEGIN:STANDARD
TZOFFSETFROM:+0200
TZOFFSETTO:+0100
TZNAME:CET
DTSTART:20261025T010000
END:STANDARD
END:VTIMEZONE
BEGIN:VEVENT
DTSTART;TZID=Europe/Paris:20261105T090000
DTEND;TZID=Europe/Paris:20261105T160000
DTSTAMP:20260420T140715
CREATED:20260215T085903Z
LAST-MODIFIED:20260215T092402Z
UID:4475-1793869200-1793894400@agapi-formation.fr
SUMMARY:Voir et analyser  : Observer le jeune enfant au quotidien
DESCRIPTION:
URL:https://agapi-formation.fr/eformation/voir-et-analyser-observer-le-jeune-enfant-au-quotidien-2/
LOCATION:AGAPI\, 15 rue Martel\, Paris\, 75010\, France
END:VEVENT
BEGIN:VEVENT
DTSTART;TZID=Europe/Paris:20261119T090000
DTEND;TZID=Europe/Paris:20261119T160000
DTSTAMP:20260420T140715
CREATED:20260215T085850Z
LAST-MODIFIED:20260215T092144Z
UID:4471-1795078800-1795104000@agapi-formation.fr
SUMMARY:Les maltraitances envers les jeunes enfants : sensibilisation et prévention
DESCRIPTION:
URL:https://agapi-formation.fr/eformation/les-maltraitances-envers-les-jeunes-enfants-sensibilisation-et-prevention/
LOCATION:AGAPI\, 15 rue Martel\, Paris\, 75010\, France
END:VEVENT
BEGIN:VEVENT
DTSTART;TZID=Europe/Paris:20261126T090000
DTEND;TZID=Europe/Paris:20261126T170000
DTSTAMP:20260420T140715
CREATED:20260215T085850Z
LAST-MODIFIED:20260215T092128Z
UID:4472-1795683600-1795712400@agapi-formation.fr
SUMMARY:Relaxation et bien-être du tout petit
DESCRIPTION:
URL:https://agapi-formation.fr/eformation/relaxation-et-bien-etre-du-tout-petit/
LOCATION:AGAPI\, 15 rue Martel\, Paris\, 75010\, France
END:VEVENT
END:VCALENDAR